BEGIN:VCALENDAR
VERSION:2.0
PRODID:-//ChamberMaster//Event Calendar 2.0//EN
METHOD:PUBLISH
X-PUBLISHED-TTL:P3D
REFRESH-INTERVAL:P3D
CALSCALE:GREGORIAN
BEGIN:VEVENT
DTSTART:20260421T233000Z
DTEND:20260422T003000Z
X-MICROSOFT-CDO-ALLDAYEVENT:FALSE
SUMMARY:Preservation Lab Class
DESCRIPTION:Learn how to use the Library's Mark S. Goodenow Preservation Lab to digitize old photos\, slides\, cassette recordings\, home movies\, and more. We'll walk you through the process for each type of media available. Feel free to bring your own photos\, slides\, cassette tapes\, VHS tapes\, or 8mm film.\n\nRegistration is required and space is limited. Contact the library to register: 507-537-7003\, library@marshalllyonlibrary.org\, or in person. Sessions are generally held at least once a month.\n\nThe Preservation Lab is free to use and open to the public. To use the Lab\, you must be 18 or older\; have a library card in good standing\; complete training with Library staff on the equipment you intend to use\; and have a Preservation Lab Agreement on file. Group training sessions are generally held at least once a month. Individual training is available as staff schedules allow. To schedule individual training or reserve a day in the lab\, please contact the library.
X-ALT-DESC;FMTTYPE=text/html:<p>Learn how to use the Library&rsquo\;s Mark S. Goodenow Preservation Lab to digitize old photos\, slides\, cassette recordings\, home movies\, and more. We&rsquo\;ll walk you through the process for each type of media available. Feel free to bring your own photos\, slides\, cassette tapes\, VHS tapes\, or 8mm film.</p>\n\n<p>Registration is required and space is limited. Contact the library to register: 507-537-7003\,&nbsp\;<a href="mailto:library@marshalllyonlibrary.org" style="box-sizing: border-box\; background-color: transparent\; color: rgb(110\, 121\, 64)\; text-decoration-line: none\; border-bottom: 1px solid rgb(110\, 121\, 64)\; transition: color 0.2s\;">library@marshalllyonlibrary.org</a>\, or in person. Sessions are generally held at least once a month.</p>\n\n<p>The Preservation Lab is free to use and open to the public. To use the Lab\, you must be 18 or older\; have a library card in good standing\; complete training with Library staff on the equipment you intend to use\; and have a Preservation Lab Agreement on file. Group training sessions are generally held at least once a month. Individual training is available as staff schedules allow. To schedule individual training or reserve a day in the lab\, please contact the library.&nbsp\;</p>\n
LOCATION:
UID:e.499.22899
SEQUENCE:3
DTSTAMP:20260419T124349Z
URL:https://business.marshall-mn.org/events/details/preservation-lab-class-22899
END:VEVENT

END:VCALENDAR
