BEGIN:VCALENDAR
VERSION:2.0
PRODID:-//ChamberMaster//Event Calendar 2.0//EN
METHOD:PUBLISH
X-PUBLISHED-TTL:P3D
REFRESH-INTERVAL:P3D
CALSCALE:GREGORIAN
BEGIN:VEVENT
DTSTART:20260517T153000Z
DTEND:20260517T170000Z
X-MICROSOFT-CDO-ALLDAYEVENT:FALSE
SUMMARY:Baccalaureate at Living Word
DESCRIPTION:Baccalaureate is a time of celebration for our graduating seniors\, where they will be prayed over and given a quilt made by our Scripture Stitchers.  It will take place on Sunday\, May 17\, during the 10:30 AM service. There will also be a cake reception between services!\n\n \n\nALL graduating seniors who have participated at some point in ministry here at Living Word are welcome to take part! Please let us know you plan to participate.
X-ALT-DESC;FMTTYPE=text/html:<div>Baccalaureate is a time of celebration for our graduating seniors\, where they will be prayed over and given a quilt made by our Scripture Stitchers.&nbsp\; It will take place on Sunday\, May 17\, during the 10:30 AM service. There will also be a cake reception between services!<br />\n&nbsp\;</div>\n\n<div>ALL graduating seniors who have participated at some point in ministry here at Living Word are welcome to take part! Please let us know you plan to participate.</div>\n
LOCATION:Living Word Church 800 Southview Ct E Marshall\, MN 56258
UID:e.499.23010
SEQUENCE:3
DTSTAMP:20260423T110437Z
URL:http://business.marshall-mn.org/events/details/baccalaureate-at-living-word-23010
END:VEVENT

END:VCALENDAR
